BEGIN:VCALENDAR
PRODID:-//Hannon Hill Events//Cascade CMS//EN
VERSION:2.0
X-WR-CALNAME:Night at the Museum
X-WR-TIMEZONE:America/New_York
BEGIN:VTIMEZONE
TZID:America/New_York
BEGIN:DAYLIGHT
TZOFFSETFROM:-0500
TZOFFSETTO:-0400
TZNAME:EDT
DTSTART:19700308T020000
RRULE:FREQ=YEARLY;BYMONTH=3;BYDAY=2SU
END:DAYLIGHT
BEGIN:STANDARD
TZOFFSETFROM:-0400
TZOFFSETTO:-0500
TZNAME:EST
DTSTART:19701101T020000
RRULE:FREQ=YEARLY;BYMONTH=11;BYDAY=1SU
END:STANDARD
END:VTIMEZONE
BEGIN:VEVENT
DTSTART:20260501T180000
DTEND:20260501T200000
DTSTAMP:20260420T012628
UID:9cd32b640a0000d81d4105be17f20e37
CREATED:20260417T150258
DESCRIPTION:The Spelman College Museum of Fine Art is hosting a Night at the Museum for the closing of Repossessions in the CI&amp\;A Gallery on Friday\, May 1.
LAST-MODIFIED:20260417T150703
SEQUENCE:0
STATUS:CONFIRMED
SUMMARY:Night at the Museum
TRANSP:OPAQUE
END:VEVENT
END:VCALENDAR
