BEGIN:VCALENDAR
PRODID:-//Hannon Hill Events//Cascade CMS//EN
VERSION:2.0
X-WR-CALNAME:Celebrate and Speak\, A Toastmasters Social
X-WR-TIMEZONE:America/New_York
BEGIN:VTIMEZONE
TZID:America/New_York
BEGIN:DAYLIGHT
TZOFFSETFROM:-0500
TZOFFSETTO:-0400
TZNAME:EDT
DTSTART:19700308T020000
RRULE:FREQ=YEARLY;BYMONTH=3;BYDAY=2SU
END:DAYLIGHT
BEGIN:STANDARD
TZOFFSETFROM:-0400
TZOFFSETTO:-0500
TZNAME:EST
DTSTART:19701101T020000
RRULE:FREQ=YEARLY;BYMONTH=11;BYDAY=1SU
END:STANDARD
END:VTIMEZONE
BEGIN:VEVENT
DTSTART:20260506T123000
DTEND:20260506T133000
DTSTAMP:20260422T142524
UID:b595c53d0a0000d81d4105bebccc2c2c
CREATED:20260422T102624
DESCRIPTION:Join us for an engaging end-of-year social featuring food\, fun\, interactive activities\, and meaningful connections in a relaxed\, supportive environment.
LAST-MODIFIED:20260422T102953
SEQUENCE:0
STATUS:CONFIRMED
SUMMARY:Celebrate and Speak\, A Toastmasters Social
TRANSP:OPAQUE
END:VEVENT
END:VCALENDAR
