BEGIN:VCALENDAR
PRODID:-//Hannon Hill Events//Cascade CMS//EN
VERSION:2.0
X-WR-CALNAME:ASCENT by eSpelman\, An Industry-Led Master Class
X-WR-TIMEZONE:America/New_York
BEGIN:VTIMEZONE
TZID:America/New_York
BEGIN:DAYLIGHT
TZOFFSETFROM:-0500
TZOFFSETTO:-0400
TZNAME:EDT
DTSTART:19700308T020000
RRULE:FREQ=YEARLY;BYMONTH=3;BYDAY=2SU
END:DAYLIGHT
BEGIN:STANDARD
TZOFFSETFROM:-0400
TZOFFSETTO:-0500
TZNAME:EST
DTSTART:19701101T020000
RRULE:FREQ=YEARLY;BYMONTH=11;BYDAY=1SU
END:STANDARD
END:VTIMEZONE
BEGIN:VEVENT
DTSTART:20260428T190000
DTEND:20260428T203000
DTSTAMP:20260422T141708
UID:b5f2d3380a0000d81d4105beeea7a9df
CREATED:20260422T120803
DESCRIPTION:Join us for a FREE 90-minute virtual master class led by faculty and industry professionals. Learn how successful projects come to life and how project management skills can accelerate your career across any industry.
LAST-MODIFIED:20260422T134542
SEQUENCE:0
STATUS:CONFIRMED
SUMMARY:ASCENT by eSpelman\, An Industry-Led Master Class
TRANSP:OPAQUE
END:VEVENT
END:VCALENDAR
