BEGIN:VCALENDAR
PRODID:-//Hannon Hill Events//Cascade CMS//EN
VERSION:2.0
X-WR-CALNAME:A Conversation with Kimberle Crenshaw and Carol Anderson
X-WR-TIMEZONE:America/New_York
BEGIN:VTIMEZONE
TZID:America/New_York
BEGIN:DAYLIGHT
TZOFFSETFROM:-0500
TZOFFSETTO:-0400
TZNAME:EDT
DTSTART:19700308T020000
RRULE:FREQ=YEARLY;BYMONTH=3;BYDAY=2SU
END:DAYLIGHT
BEGIN:STANDARD
TZOFFSETFROM:-0400
TZOFFSETTO:-0500
TZNAME:EST
DTSTART:19701101T020000
RRULE:FREQ=YEARLY;BYMONTH=11;BYDAY=1SU
END:STANDARD
END:VTIMEZONE
BEGIN:VEVENT
DTSTART:20260427T160000
DTEND:20260427T173000
DTSTAMP:20260421T155226
UID:ab4624310a0000d81d4105bed2f95fd0
CREATED:20260420T102313
DESCRIPTION:Crenshaw and Anderson will explore critical issues at the intersection of race\, gender\, and social justice\, offering insight\, perspective\, and dialogue that speak to our current moment.
LAST-MODIFIED:20260421T155218
SEQUENCE:0
STATUS:CONFIRMED
SUMMARY:A Conversation with Kimberle Crenshaw and Carol Anderson
TRANSP:OPAQUE
END:VEVENT
END:VCALENDAR
